BEGIN:VCALENDAR
VERSION:2.0
PRODID:-//Château Grévy - évènementiel - ECPv6.14.0//NONSGML v1.0//EN
CALSCALE:GREGORIAN
METHOD:PUBLISH
X-ORIGINAL-URL:https://chateau-grevy.fr
X-WR-CALDESC:Évènements pour Château Grévy - évènementiel
REFRESH-INTERVAL;VALUE=DURATION:PT1H
X-Robots-Tag:noindex
X-PUBLISHED-TTL:PT1H
BEGIN:VTIMEZONE
TZID:Europe/Paris
BEGIN:DAYLIGHT
TZOFFSETFROM:+0100
TZOFFSETTO:+0200
TZNAME:CEST
DTSTART:20260329T010000
END:DAYLIGHT
BEGIN:STANDARD
TZOFFSETFROM:+0200
TZOFFSETTO:+0100
TZNAME:CET
DTSTART:20261025T010000
END:STANDARD
END:VTIMEZONE
BEGIN:VEVENT
DTSTART;TZID=Europe/Paris:20260714T160000
DTEND;TZID=Europe/Paris:20260715T010000
DTSTAMP:20260421T142314
CREATED:20260420T125905Z
LAST-MODIFIED:20260420T164158Z
UID:5296-1784044800-1784077200@chateau-grevy.fr
SUMMARY:LE SPRITZ AU CHÂTEAU GRÉVY
DESCRIPTION:EXCEPTIONNELAprès avoir gardé précieusement le secret\, nous pouvons enfin vous annoncer l’organisation de la première GARDEN PARTY du Spritz.Le temps d’une journée\, nous délocaliserons le Spritz au château de GREVY en plein air.Au programme: 14 Juillet 2026 16H-01H: Tenue Blanche exigée: DJ \, Saxo et Trompette : Piscine Champêtre : Jeux en Plein Air: Bar à Champagnes\,Vins\,Cocktails…: Formule Grillade avec 3 verres : 35€ ( + 3 euros de frais de billetterie / possibilité de venir acheter votre place en direct au Château Grevy contact@chateau-grevy.fr) : Réservations via notre billetterie en ligne sur nos réseaux sociaux
URL:https://chateau-grevy.fr/event/le-spritz-au-chateau-grevy/
LOCATION:Château Grevy\, 2 rue Léon Guignard\, Mont-Sous-Vaudrey\, 39380\, France
ATTACH;FMTTYPE=image/jpeg:https://chateau-grevy.fr/wp-content/uploads/2026/04/673988745_122208113786553267_4296683714764696603_n.jpg
END:VEVENT
END:VCALENDAR